0.625
0.0
0.0
-0.625
230000.3125
493749.6875
