0.625
0.0
0.0
-0.625
250000.3125
456249.6875
