0.625
0.0
0.0
-0.625
290000.3125
474999.6875
