0.625
0.0
0.0
-0.625
160000.3125
443749.6875
