0.625
0.0
0.0
-0.625
90000.3125
412499.6875
