0.625
0.0
0.0
-0.625
190000.3125
399999.6875
