0.625
0.0
0.0
-0.625
0.3125
362499.6875
