0.625
0.0
0.0
-0.625
10000.3125
362499.6875
