0.625
0.0
0.0
-0.625
150000.3125
318749.6875
