0.625
0.0
0.0
-0.625
160000.3125
324999.6875
