0.625
0.0
0.0
-0.625
270000.3125
606249.6875
