0.625
0.0
0.0
-0.625
0.3125
349999.6875
