0.625
0.0
0.0
-0.625
180000.3125
299999.6875
