5.0
0.0
0.0
-5.0
80002.5
624997.5
