5.0
0.0
0.0
-5.0
120002.5
624997.5
