5.0
0.0
0.0
-5.0
40002.5
374997.5
