5.0
0.0
0.0
-5.0
160002.5
374997.5
