5.0
0.0
0.0
-5.0
240002.5
649997.5
