5.0
0.0
0.0
-5.0
280002.5
574997.5
