5.0
0.0
0.0
-5.0
-19997.5
324997.5
