0.3125
0.0
0.0
-0.3125
200000.15625
615624.84375
