0.3125
0.0
0.0
-0.3125
240000.15625
621874.84375
