0.3125
0.0
0.0
-0.3125
220000.15625
581249.84375
