0.3125
0.0
0.0
-0.3125
255000.15625
578124.84375
