0.3125
0.0
0.0
-0.3125
270000.15625
581249.84375
