0.3125
0.0
0.0
-0.3125
105000.15625
565624.84375
