0.3125
0.0
0.0
-0.3125
150000.15625
556249.84375
