0.3125
0.0
0.0
-0.3125
170000.15625
565624.84375
