0.3125
0.0
0.0
-0.3125
195000.15625
559374.84375
