0.3125
0.0
0.0
-0.3125
235000.15625
565624.84375
