0.3125
0.0
0.0
-0.3125
240000.15625
546874.84375
