0.3125
0.0
0.0
-0.3125
160000.15625
503124.84375
