0.3125
0.0
0.0
-0.3125
210000.15625
521874.84375
