0.3125
0.0
0.0
-0.3125
120000.15625
487499.84375
