0.3125
0.0
0.0
-0.3125
145000.15625
481249.84375
