0.3125
0.0
0.0
-0.3125
105000.15625
468749.84375
