0.3125
0.0
0.0
-0.3125
215000.15625
459374.84375
