0.3125
0.0
0.0
-0.3125
60000.15625
443749.84375
