0.3125
0.0
0.0
-0.3125
100000.15625
428124.84375
