0.3125
0.0
0.0
-0.3125
225000.15625
437499.84375
