0.3125
0.0
0.0
-0.3125
100000.15625
424999.84375
