0.3125
0.0
0.0
-0.3125
105000.15625
409374.84375
