0.3125
0.0
0.0
-0.3125
140000.15625
409374.84375
