0.3125
0.0
0.0
-0.3125
30000.15625
381249.84375
