0.3125
0.0
0.0
-0.3125
65000.15625
399999.84375
