0.3125
0.0
0.0
-0.3125
175000.15625
396874.84375
