0.3125
0.0
0.0
-0.3125
30000.15625
365624.84375
