0.3125
0.0
0.0
-0.3125
205000.15625
359374.84375
