0.3125
0.0
0.0
-0.3125
195000.15625
337499.84375
