0.3125
0.0
0.0
-0.3125
195000.15625
312499.84375
